Workbook
Name TopSection: SWCN!$F$11,SWCN!$L$11,SWCN!$F$13

Sheet Guidance
B2: SEPA SWCN
B3: Special Waste Regulations 1996
B5: CONSIGNMENT NOTE GUIDANCE AND INFORMATION GENERAL
B6: These guidance notes are designed for the Excel version of the SWCN.
B8: 1. All consignment notes should have a unique code number (consignment note number) allocated by SEPA. You can purchase these here:
B10: https://webpayments.sepa.org.uk/
B12: 1.1. Consignment note numbers starting SB are solely for the consignment of special waste consisting entirely of lead acid motor vehicle batteries.
B15: 1.2. Consignment note numbers starting SC are restricted to: (i) The removal of waste within a succession of carrier’s collection rounds where Regulation 14(2) applies; (ii) Return of out-of-specification materials to the original manufacturer/supplier; (iii) The removal of waste from a ship in a harbour area.
B21: 1.3. All other consignment note numbers will start SA.
B23: 1.4. You should pass this Excel consignment note electronically (via email or other means) between parties - email addresses are captured in the note for this purpose. The carrier should ensure that a reference copy of the note accompanies the waste at all times during the consignment. Preferably this will be an electronic copy carried on a smartphone, tablet or similar device. However, it could be a printed paper copy.
B30: 1.5. All parties must be clearly identified and contact details provided. They must confirm the relevant declaration box in their section.
B33: 1.6. Using the Excel consignment note electronically means that parties will not receive their own physical copy at the time of transfer. All parties must continue to maintain their own records and you must make arrangements so this can happen. For example:
... B134: 07.20 Version 4.3 (DIGITAL)

Sheet SWCN
C3: SCOTTISH ENVIRONMENT PROTECTION AGENCY (SEPA) | N3: SPECIAL WASTE REGULATIONS 1996
C5: SEPA SPECIAL WASTE CONSIGNMENT NOTE (SWCN): EXCEL VERSION
C6: ONE VERSION TO BE COMPLETED AND ALL PARTIES TO MAINTAIN OWN RECORDS ALL PARTIES MUST BE CLEARLY IDENTIFIED AND CONTACT DETAILS PROVIDED CONSIGNEE TO SEND COMPLETED COPY TO SEPA: swcnreturns@sepa.org.uk
C11: Consignment note prefix (SA/SB/SC) | I11: Consignment note number
C13: Pre-notice prefix (if different) | H13: Pre-notice number (if different) | M13: Sheet | O13: of
C17: A. CONSIGNMENT DETAILS | F17: PLEASE INDICATE IF YOU ARE A TRANSFER STATION (Y/N)
C20: A.1 The waste described below is to be removed from (name, address details):
C22: Name | G22: Address | M22: Postcode
C24: Producer email address (if not consignor)
C27: A.2 The waste described below will be taken to (name, address details):
C29: Name | G29: Address | M29: Postcode
C32: A.3 The consignment(s) will be (select from list): | J32: Please specify if 'other':
C35: A.4 Expected removal date of first consignment | J35: Last consignment
C38: A.5 Name | G38: On behalf of (Company Name)
C40: Company Address | L40: Postcode
C42: A.6: Tel | G42: Date
C45: A.7 The waste producer was (if different from A1) (name, address details):
C46: Name | G46: Address | M46: Postcode
C49: B: DESCRIPTION OF WASTE | F49: B8 The process giving rise to the waste
B51: B1 Description of Waste | E51: B2 Six-Digit EWC code | F51: B3 Physical Form (Liquid, powder, sludge, solid, mixed, gas) | H51: B4 Colour | J51: B5 Total quantity for removal | K51: B5 units - Tonnes, Kgs, Litres | L51: B5 Container size, type, number | N51: B6 The chemical/biological components that make the waste special are: | P51: B7 Hazard Code(s)
N54: Component | O54: Concentration % or mg/kg (include units)
C67: C. CARRIER'S CERTIFICATE
C70: The quantity collected is | F70: Units
C72: Name | G72: On behalf of (Company Name)
C74: Company Address | L74: Postcode
C76: Carrier email address | K76: Date | M76: at | O76: Hrs
C77: C.1 Carrier registration number/reason for exemption: | J77: C.2 Vehicle registration number (or mode of transport, if not road):
C80: Declaration: | E80: I certify that I today collected the consignment and that the details in A1, A2 and B1 are correct | N80: Please tick box to confirm
C84: D. CONSIGNOR'S CERTIFICATE
C87: Name | G87: On behalf of (Company Name)
C89: Company Address | L89: Postcode
C91: Consignor email address | K91: Date
C93: Declaration: | E93: I certify that the information in A, B, and C above is correct, that the carrier is registered or exempt, and was advised of the appropriate precautionary measures | N93: Please tick box to confirm
C97: E. CONSIGNEE'S CERTIFICATE
C100: E.1 I received the waste described in B on: | H100: at | J100: hrs | K100: E.2 Quantity received: | N100: E.2 Units:
C102: E.3 Vehicle registration number (or mode of transport if not road):
C104: E.4 Waste Management Operation(s):
C106: Name | G106: On behalf of (Company Name)
C108: Company Address | L108: Postcode
C110: Consignee email address | K110: Date
C112: Declaration: | E112: I certify that waste management licence/ authorisation/exemption number: | J112: authorises the management of waste described in B that was received on the date given above | N112: Please tick box to confirm
C116: 07.20 Version 4.3 (DIGITAL)

Sheet Data Upload SWCN
A1: Consignment note prefix | B1: Consignment note number | C1: Pre-notice prefix (if different) | D1: Pre-notice number (if different) | E1: Sheet # | F1: Total # sheets | G1: Transfer station? | H1: A1. Name | I1: A1. Address | J1: A1. Postcode of place where waste moved from | K1: A1. Email address of producer (if not consignor) | L1: A2. Name | M1: A2. Address | N1: A2. Postcode of place waste taken to | O1: A3. Consignments will be (type) | P1: A3. if 'other' then | Q1: A4. First consignment date | R1: A4. Last consignment date | S1: A5. Name (consignor) | T1: A5. On behalf of (company name) | U1: A5. On behalf of (address) | V1: A5. Postcode (consignor) | W1: A6. Tel (consignor) | X1: A5. Date consignment arranged (consignor) | Y1: A7. Waste producer (if different) name | Z1: A7. Producer address | AA1: A7. Postcode (producer) | AB1: B8 Process giving arise to waste | AC1: B1 Description of Waste | AD1: B2 Six-Digit EWC code | AE1: B3 Physical Form (Liquid, powder, sludge, solid, mixed, gas) | AF1: B4 Colour | AG1: B5 Total quantity for removal (Kg, Ltrs, Tonnes) | AH1: B5 units | AI1: B5 container size, type and number | AJ1: B6 Component | AK1: B6 Concentration (% or mg/kg) | AL1: B7 Hazard Codes | AM1: B1 Description of Waste | AN1: B2 Six-Digit EWC code | AO1: B3 Physical Form (Liquid, powder, sludge, solid, mixed, gas) | AP1: B4 Colour | AQ1: B5 Total quantity for removal (Kg, Ltrs, Tonnes) | AR1: B5 units | AS1: B5 container size, type and number | AT1: B6 Component | AU1: B6 Concentration (% or mg/kg) | AV1: B7 Hazard Codes | AW1: B1 Description of Waste | AX1: B2 Six-Digit EWC code | AY1: B3 Physical Form (Liquid, powder, sludge, solid, mixed, gas) | AZ1: B4 Colour | BA1: B5 Total quantity for removal (Kg, Ltrs, Tonnes) | BB1: B5 units | BC1: B5 container size, type and number | BD1: B6 Component | BE1: B6 Concentration (% or mg/kg) | BF1: B7 Hazard Codes | BG1: B1 Description of Waste | BH1: B2 Six-Digit EWC code | BI1: B3 Physical Form (Liquid, powder, sludge, solid, mixed, gas) | BJ1: B4 Colour | BK1: B5 Total quantity for removal (Kg, Ltrs, Tonnes) | BL1: B5 units | BM1: B5 container size, type and number | BN1: B6 Component | BO1: B6 Concentration (% or mg/kg) | BP1: B7 Hazard Codes | BQ1: B1 Description of Waste | BR1: B2 Six-Digit EWC code | BS1: B3 Physical Form (Liquid, powder, sludge, solid, mixed, gas) | BT1: B4 Colour | BU1: B5 Total quantity for removal (Kg, Ltrs, Tonnes) | BV1: B5 units | BW1: B5 container size, type and number | BX1: B6 Component | BY1: B6 Concentration (% or mg/kg) | BZ1: B7 Hazard Codes | CA1: B1 Description of Waste | CB1: B2 Six-Digit EWC code | CC1: B3 Physical Form (Liquid, powder, sludge, solid, mixed, gas) | CD1: B4 Colour | CE1: B5 Total quantity for removal (Kg, Ltrs, Tonnes) | CF1: B5 units | CG1: B5 container size, type and number | CH1: B6 Component | CI1: B6 Concentration (% or mg/kg) | CJ1: B7 Hazard Codes | CK1: B1 Description of Waste | CL1: B2 Six-Digit EWC code | CM1: B3 Physical Form (Liquid, powder, sludge, solid, mixed, gas) | CN1: B4 Colour | CO1: B5 Total quantity for removal (Kg, Ltrs, Tonnes) | CP1: B5 units | CQ1: B5 container size, type and number | CR1: B6 Component | CS1: B6 Concentration (% or mg/kg) | CT1: B7 Hazard Codes | CU1: B1 Description of Waste | CV1: B2 Six-Digit EWC code | CW1: B3 Physical Form (Liquid, powder, sludge, solid, mixed, gas) | CX1: B4 Colour | CY1: B5 Total quantity for removal (Kg, Ltrs, Tonnes) | CZ1: B5 units | DA1: B5 container size, type and number | DB1: B6 Component | DC1: B6 Concentration (% or mg/kg) | DD1: B7 Hazard Codes | DE1: B1 Description of Waste | DF1: B2 Six-Digit EWC code | DG1: B3 Physical Form (Liquid, powder, sludge, solid, mixed, gas) | DH1: B4 Colour | DI1: B5 Total quantity for removal (Kg, Ltrs, Tonnes) | DJ1: B5 units | DK1: B5 container size, type and number | DL1: B6 Component | DM1: B6 Concentration (% or mg/kg) | DN1: B7 Hazard Codes | DO1: B1 Description of Waste | DP1: B2 Six-Digit EWC code | DQ1: B3 Physical Form (Liquid, powder, sludge, solid, mixed, gas) | DR1: B4 Colour | DS1: B5 Total quantity for removal (Kg, Ltrs, Tonnes) | DT1: B5 units | DU1: B5 container size, type and number | DV1: B6 Component | DW1: B6 Concentration (% or mg/kg) | DX1: B7 Hazard Codes | DY1: Quantity collected (carrier) | DZ1: Units (carrier) | EA1: Name (carrier) | EB1: On behalf of (company name) (Carrier) | EC1: On behalf of (Company Address) (carrier) | ED1: Postcode (carrier) | EE1: Email address (carrier) | EF1: C1. Carrier registration number | EG1: C2. Vehicle registration number or mode of transport | EH1: Date (carrier) | EI1: Time (carrier) | EJ1: Declaration (carrier) | EK1: Name (consignor) | EL1: On behalf of (Company Name) (consignor) | EM1: On behalf of (Company Address) (consignor) | EN1: Postcode (consignor) | EO1: Email address (consignor) | EP1: Date (consignor) | EQ1: Declaration (consignor) | ER1: E1. Date waste received | ES1: E1. Time waste received | ET1: E2. Quantity received | EU1: E2. Units (consignee) | EV1: E3. Vehicle registration number or mode of transport | EW1: E4. Waste management operation(s) (consignee) | EX1: Name (consignee) | EY1: On behalf of (Company Name) (consignee) | EZ1: On behalf of (Company Address) (consignee) | FA1: Postcode (consignee) | FB1: Email address (consignee) | FC1: Date (consignee) | FD1: Waste management licence/ authorisation/ exemption number: | FE1: Declaration (consignee)
A2: =SWCN!F11 -> 0 | B2: =SWCN!L11 -> 0 | C2: =SWCN!F13 -> 0 | D2: =SWCN!L13 -> 0 | E2: =SWCN!N13 -> 0 | F2: =SWCN!P13 -> 0 | G2: =SWCN!N17 -> 0 | H2: =SWCN!D22 -> 0 | I2: =SWCN!H22 -> 0 | J2: =SWCN!N22 -> 0 | K2: =SWCN!G24 -> 0 | L2: =SWCN!D29 -> 0 | M2: =SWCN!H29 -> 0 | N2: =SWCN!N29 -> 0 | O2: =SWCN!H32 -> 0 | P2: =SWCN!M32 -> 0 | Q2: =SWCN!H35 -> 0 | R2: =SWCN!L35 -> 0 | S2: =SWCN!D38 -> 0 | T2: =SWCN!K38 -> 0 | U2: =SWCN!E40 -> 0 | V2: =SWCN!M40 -> 0 | W2: =SWCN!D42 -> 0 | X2: =SWCN!H42 -> 0 | Y2: =SWCN!D46 -> 0 | Z2: =SWCN!H46 -> 0 | AA2: =SWCN!N46 -> 0 | AB2: =SWCN!K49 -> 0 | AC2: =SWCN!B56 -> 0 | AD2: =SWCN!E56 -> 0 | AE2: =SWCN!F56 -> 0 | AF2: =SWCN!H56 -> 0 | AG2: =SWCN!J56 -> 0 | AH2: =SWCN!K56 -> 0 | AI2: =SWCN!L56 -> 0 | AJ2: =SWCN!N56 -> 0 | AK2: =SWCN!O56 -> 0 | AL2: =SWCN!P56 -> 0 | AM2: =SWCN!B57 -> 0 | AN2: =SWCN!E57 -> 0 | AO2: =SWCN!F57 -> 0 | AP2: =SWCN!H57 -> 0 | AQ2: =SWCN!J57 -> 0 | AR2: =SWCN!K57 -> 0 | AS2: =SWCN!L57 -> 0 | AT2: =SWCN!N57 -> 0 | AU2: =SWCN!O57 -> 0 | AV2: =SWCN!P57 -> 0 | AW2: =SWCN!B58 -> 0 | AX2: =SWCN!E58 -> 0 | AY2: =SWCN!F58 -> 0 | AZ2: =SWCN!H58 -> 0 | BA2: =SWCN!J58 -> 0 | BB2: =SWCN!K58 -> 0 | BC2: =SWCN!L58 -> 0 | BD2: =SWCN!N58 -> 0 | BE2: =SWCN!O58 -> 0 | BF2: =SWCN!P58 -> 0 | BG2: =SWCN!B59 -> 0 | BH2: =SWCN!E59 -> 0 | BI2: =SWCN!F59 -> 0 | BJ2: =SWCN!H59 -> 0 | BK2: =SWCN!J59 -> 0 | BL2: =SWCN!K59 -> 0 | BM2: =SWCN!L59 -> 0 | BN2: =SWCN!N59 -> 0 | BO2: =SWCN!O59 -> 0 | BP2: =SWCN!P59 -> 0 | BQ2: =SWCN!B60 -> 0 | BR2: =SWCN!E60 -> 0 | BS2: =SWCN!F60 -> 0 | BT2: =SWCN!H60 -> 0 | BU2: =SWCN!J60 -> 0 | BV2: =SWCN!K60 -> 0 | BW2: =SWCN!L60 -> 0 | BX2: =SWCN!N60 -> 0 | BY2: =SWCN!O60 -> 0 | BZ2: =SWCN!P60 -> 0 | CA2: =SWCN!B61 -> 0 | CB2: =SWCN!E61 -> 0 | CC2: =SWCN!F61 -> 0 | CD2: =SWCN!H61 -> 0 | CE2: =SWCN!J61 -> 0 | CF2: =SWCN!K61 -> 0 | CG2: =SWCN!L61 -> 0 | CH2: =SWCN!N61 -> 0 | CI2: =SWCN!O61 -> 0 | CJ2: =SWCN!P61 -> 0 | CK2: =SWCN!B62 -> 0 | CL2: =SWCN!E62 -> 0 | CM2: =SWCN!F62 -> 0 | CN2: =SWCN!H62 -> 0 | CO2: =SWCN!J62 -> 0 | CP2: =SWCN!K62 -> 0 | CQ2: =SWCN!L62 -> 0 | CR2: =SWCN!N62 -> 0 | CS2: =SWCN!O62 -> 0 | CT2: =SWCN!P62 -> 0 | CU2: =SWCN!B63 -> 0 | CV2: =SWCN!E63 -> 0 | CW2: =SWCN!F63 -> 0 | CX2: =SWCN!H63 -> 0 | CY2: =SWCN!J63 -> 0 | CZ2: =SWCN!K63 -> 0 | DA2: =SWCN!L63 -> 0 | DB2: =SWCN!N63 -> 0 | DC2: =SWCN!O63 -> 0 | DD2: =SWCN!P63 -> 0 | DE2: =SWCN!B64 -> 0 | DF2: =SWCN!E64 -> 0 | DG2: =SWCN!F64 -> 0 | DH2: =SWCN!H64 -> 0 | DI2: =SWCN!J64 -> 0 | DJ2: =SWCN!K64 -> 0 | DK2: =SWCN!L64 -> 0 | DL2: =SWCN!N64 -> 0 | DM2: =SWCN!O64 -> 0 | DN2: =SWCN!P64 -> 0 | DO2: =SWCN!B65 -> 0 | DP2: =SWCN!E65 -> 0 | DQ2: =SWCN!F65 -> 0 | DR2: =SWCN!H65 -> 0 | DS2: =SWCN!J65 -> 0 | DT2: =SWCN!K65 -> 0 | DU2: =SWCN!L65 -> 0 | DV2: =SWCN!N65 -> 0 | DW2: =SWCN!O65 -> 0 | DX2: =SWCN!P65 -> 0 | DY2: =SWCN!E70 -> 0 | DZ2: =SWCN!H70 -> 0 | EA2: =SWCN!D72 -> 0 | EB2: =SWCN!K72 -> 0 | EC2: =SWCN!E74 -> 0 | ED2: =SWCN!M74 -> 0 | EE2: =SWCN!E76 -> 0 | EF2: =SWCN!E78 -> 0 | EG2: =SWCN!M78 -> 0 | EH2: =SWCN!L76 -> 0 | EI2: =SWCN!N76 -> 0 | EJ2: FALSE | EK2: =SWCN!D87 -> 0 | EL2: =SWCN!K87 -> 0 | EM2: =SWCN!E89 -> 0 | EN2: =SWCN!M89 -> 0 | EO2: =SWCN!E91 -> 0 | EP2: =SWCN!L91 -> 0 | EQ2: FALSE | ER2: =SWCN!F100 -> 0 | ES2: =SWCN!I100 -> 0 | ET2: =SWCN!M100 -> 0 | EU2: =SWCN!O100 -> 0 | EV2: =SWCN!J102 -> 0 | EW2: =SWCN!F104 -> 0 | EX2: =SWCN!D106 -> 0 | EY2: =SWCN!K106 -> 0 | EZ2: =SWCN!E108 -> 0 | FA2: =SWCN!M108 -> 0 | FB2: =SWCN!E110 -> 0 | FC2: =SWCN!L110 -> 0 | FD2: =SWCN!H112 -> 0 | FE2: FALSE

Sheet LOOKUP DATA
A1: Consignment prefix | B1: Transfer station | C1: Type of movement | D1: Physical form | E1: Units | F1: Hazard codes | G1: Haz EWC | H1: Content tab | I1: Content tab2
A2: SA | B2: Yes | C2: One single | D2: Liquid | E2: Tonnes | F2: HP1 Explosive | G2: 01 03 04* | H2: Yes | I2: Yes
A3: SB | B3: No | C3: A succession | D3: Powder | E3: Kgs | F3: HP2 Oxidizing | G3: 01 03 05* | H3: No | I3: No
A4: SC | C4: Carrier's round | D4: Sludge | E4: Litres | F4: HP3 Flammable | G4: 01 03 07* | I4: N/A
C5: Other (please specify) | D5: Solid | F5: HP4 Irritant | G5: 01 03 10*
D6: Mixed | F6: HP5 Harmful | G6: 01 04 07*
D7: Gas | F7: HP6 Toxic | G7: 01 05 05*
F8: HP7 Carcinogenic | G8: 01 05 06*
F9: HP8 Corrosive | G9: 02 01 08*
F10: HP9 Infectious | G10: 03 01 04*
F11: HP10 Toxic for Reproduction | G11: 03 02 01*
F12: HP11 Mutagenic | G12: 03 02 02*
F13: HP12 Produces toxic gases in contact with water, air or acid | G13: 03 02 03*
F14: HP13 Sensitising | G14: 03 02 04*
F15: HP14 Ecotoxic | G15: 03 02 05*
F16: HP15 Capable of exhibiting a hazardous property listed above not directly displayed by the original waste. | G16: 04 01 03*
G17: 04 02 14*
G18: 04 02 16*
G19: 04 02 19*
G20: 05 01 02*
G21: 05 01 03*
G22: 05 01 04*
G23: 05 01 05*
G24: 05 01 06*
G25: 05 01 07*
G26: 05 01 08*
G27: 05 01 09*
G28: 05 01 11*
... G409: 20 01 37*
